Package: MVCClass Version: 1.85.0 Command: /home/biocbuild/bbs-3.23-bioc/R/bin/R CMD INSTALL MVCClass StartedAt: 2025-11-06 15:04:49 -0500 (Thu, 06 Nov 2025) EndedAt: 2025-11-06 15:05:06 -0500 (Thu, 06 Nov 2025) EllapsedTime: 17.1 seconds RetCode: 0 Status: OK