Package: MSstatsBioNet Version: 1.3.1 Command: /home/biocbuild/bbs-3.23-bioc/R/bin/R CMD INSTALL MSstatsBioNet StartedAt: 2025-11-25 15:59:34 -0500 (Tue, 25 Nov 2025) EndedAt: 2025-11-25 15:59:48 -0500 (Tue, 25 Nov 2025) EllapsedTime: 14.4 seconds RetCode: 0 Status: OK