Package: MSstatsBioNet Version: 1.3.1 Command: /Library/Frameworks/R.framework/Resources/bin/R CMD INSTALL MSstatsBioNet StartedAt: 2025-11-20 15:20:37 -0500 (Thu, 20 Nov 2025) EndedAt: 2025-11-20 15:21:02 -0500 (Thu, 20 Nov 2025) EllapsedTime: 25.2 seconds RetCode: 0 Status: OK