Package: MSstatsBioNet Version: 1.3.1 Command: /Library/Frameworks/R.framework/Resources/bin/R CMD build --keep-empty-dirs --no-resave-data MSstatsBioNet StartedAt: 2025-11-20 17:54:32 -0500 (Thu, 20 Nov 2025) EndedAt: 2025-11-20 17:55:18 -0500 (Thu, 20 Nov 2025) EllapsedTime: 45.9 seconds RetCode: 0 Status: OK PackageFile: MSstatsBioNet_1.3.1.tar.gz PackageFileSize: 510.3 KiB