Package: MSstatsBioNet Version: 1.3.1 Command: rm -rf MSstatsBioNet.buildbin-libdir && mkdir MSstatsBioNet.buildbin-libdir && /Users/biocbuild/BBS/utils/build-universal.sh MSstatsBioNet_1.3.1.tar.gz /Library/Frameworks/R.framework/Resources/bin/R MSstatsBioNet.buildbin-libdir StartedAt: 2025-11-13 23:47:20 -0500 (Thu, 13 Nov 2025) EndedAt: 2025-11-13 23:47:28 -0500 (Thu, 13 Nov 2025) EllapsedTime: 8.1 seconds RetCode: 0 Status: OK PackageFile: MSstatsBioNet_1.3.1.tgz PackageFileSize: 583.9 KiB