Package: MSstatsBig Version: 1.7.0 Command: /home/biocbuild/bbs-3.22-bioc/R/bin/R CMD INSTALL MSstatsBig StartedAt: 2025-10-20 15:11:23 -0400 (Mon, 20 Oct 2025) EndedAt: 2025-10-20 15:11:34 -0400 (Mon, 20 Oct 2025) EllapsedTime: 10.7 seconds RetCode: 0 Status: OK