Package: MSstatsBig Version: 1.7.0 Command: /home/biocbuild/bbs-3.22-bioc/R/bin/R CMD build --keep-empty-dirs --no-resave-data --md5 MSstatsBig StartedAt: 2025-10-20 18:51:12 -0400 (Mon, 20 Oct 2025) EndedAt: 2025-10-20 18:51:28 -0400 (Mon, 20 Oct 2025) EllapsedTime: 16.0 seconds RetCode: 0 Status: OK PackageFile: MSstatsBig_1.7.0.tar.gz PackageFileSize: 70.95 KiB