Package: MSnbase Version: 2.35.2 Command: /home/biocbuild/bbs-3.22-bioc/R/bin/R CMD INSTALL MSnbase StartedAt: 2025-10-05 15:34:50 -0400 (Sun, 05 Oct 2025) EndedAt: 2025-10-05 15:36:06 -0400 (Sun, 05 Oct 2025) EllapsedTime: 75.3 seconds RetCode: 0 Status: OK