Package: MOSim Version: 2.5.0 Command: /home/biocbuild/bbs-3.22-bioc/R/bin/R CMD INSTALL MOSim StartedAt: 2025-10-03 15:52:38 -0400 (Fri, 03 Oct 2025) EndedAt: 2025-10-03 15:53:20 -0400 (Fri, 03 Oct 2025) EllapsedTime: 42.7 seconds RetCode: 0 Status: OK