Package: MOSClip Version: 1.5.0 Command: /Library/Frameworks/R.framework/Resources/bin/R CMD INSTALL MOSClip StartedAt: 2025-11-23 15:48:38 -0500 (Sun, 23 Nov 2025) EndedAt: 2025-11-23 15:49:44 -0500 (Sun, 23 Nov 2025) EllapsedTime: 66.2 seconds RetCode: 0 Status: OK