Package: MOSClip Version: 1.5.0 Command: /Library/Frameworks/R.framework/Resources/bin/R CMD build --keep-empty-dirs --no-resave-data MOSClip StartedAt: 2025-11-23 17:52:53 -0500 (Sun, 23 Nov 2025) EndedAt: 2025-11-23 17:55:15 -0500 (Sun, 23 Nov 2025) EllapsedTime: 142.7 seconds RetCode: 0 Status: OK PackageFile: MOSClip_1.5.0.tar.gz PackageFileSize: 2.123 MiB