Package: MOSClip Version: 1.5.0 Command: /Library/Frameworks/R.framework/Resources/bin/R CMD INSTALL MOSClip StartedAt: 2025-11-19 15:24:42 -0500 (Wed, 19 Nov 2025) EndedAt: 2025-11-19 15:25:02 -0500 (Wed, 19 Nov 2025) EllapsedTime: 19.8 seconds RetCode: 0 Status: OK