Package: MOSClip Version: 1.5.0 Command: /Library/Frameworks/R.framework/Resources/bin/R CMD build --keep-empty-dirs --no-resave-data MOSClip StartedAt: 2025-11-19 17:02:46 -0500 (Wed, 19 Nov 2025) EndedAt: 2025-11-19 17:03:23 -0500 (Wed, 19 Nov 2025) EllapsedTime: 36.4 seconds RetCode: 0 Status: OK PackageFile: MOSClip_1.5.0.tar.gz PackageFileSize: 2.123 MiB