Package: MMDiff2 Version: 1.39.0 Command: /home/biocbuild/bbs-3.23-bioc/R/bin/R CMD build --keep-empty-dirs --no-resave-data MMDiff2 StartedAt: 2025-11-19 18:47:48 -0500 (Wed, 19 Nov 2025) EndedAt: 2025-11-19 18:49:26 -0500 (Wed, 19 Nov 2025) EllapsedTime: 98.1 seconds RetCode: 0 Status: OK PackageFile: MMDiff2_1.39.0.tar.gz PackageFileSize: 2.848 MiB