Package: MMDiff2 Version: 1.39.0 Command: /Library/Frameworks/R.framework/Resources/bin/R CMD build --keep-empty-dirs --no-resave-data MMDiff2 StartedAt: 2025-11-19 17:46:49 -0500 (Wed, 19 Nov 2025) EndedAt: 2025-11-19 17:49:00 -0500 (Wed, 19 Nov 2025) EllapsedTime: 131.5 seconds RetCode: 0 Status: OK PackageFile: MMDiff2_1.39.0.tar.gz PackageFileSize: 2.848 MiB