Package: MMDiff2 Version: 1.39.0 Command: /Library/Frameworks/R.framework/Resources/bin/R CMD INSTALL MMDiff2 StartedAt: 2025-11-12 15:30:17 -0500 (Wed, 12 Nov 2025) EndedAt: 2025-11-12 15:30:30 -0500 (Wed, 12 Nov 2025) EllapsedTime: 12.4 seconds RetCode: 0 Status: OK