Package: LinTInd Version: 1.13.1 Command: /home/biocbuild/bbs-3.22-bioc/R/bin/R CMD INSTALL LinTInd StartedAt: 2025-10-05 15:50:05 -0400 (Sun, 05 Oct 2025) EndedAt: 2025-10-05 15:50:23 -0400 (Sun, 05 Oct 2025) EllapsedTime: 17.8 seconds RetCode: 0 Status: OK