Package: LinTInd Version: 1.13.1 Command: /home/biocbuild/bbs-3.22-bioc/R/bin/R CMD build --keep-empty-dirs --no-resave-data --md5 LinTInd StartedAt: 2025-10-03 18:20:33 -0400 (Fri, 03 Oct 2025) EndedAt: 2025-10-03 18:21:00 -0400 (Fri, 03 Oct 2025) EllapsedTime: 27.0 seconds RetCode: 1 Status: ERROR PackageFile: None PackageFileSize: NA