Package: LedPred Version: 1.43.0 Command: /home/biocbuild/bbs-3.22-bioc/R/bin/R CMD INSTALL LedPred StartedAt: 2025-09-30 15:10:59 -0400 (Tue, 30 Sep 2025) EndedAt: 2025-09-30 15:11:09 -0400 (Tue, 30 Sep 2025) EllapsedTime: 10.8 seconds RetCode: 0 Status: OK