Package: LRBaseDbi Version: 2.21.0 Command: /Library/Frameworks/R.framework/Resources/bin/R CMD INSTALL LRBaseDbi StartedAt: 2025-11-26 15:31:06 -0500 (Wed, 26 Nov 2025) EndedAt: 2025-11-26 15:31:11 -0500 (Wed, 26 Nov 2025) EllapsedTime: 5.2 seconds RetCode: 0 Status: OK