Package: LRBaseDbi Version: 2.21.0 Command: /Library/Frameworks/R.framework/Resources/bin/R CMD build --keep-empty-dirs --no-resave-data LRBaseDbi StartedAt: 2025-11-26 16:48:27 -0500 (Wed, 26 Nov 2025) EndedAt: 2025-11-26 16:48:39 -0500 (Wed, 26 Nov 2025) EllapsedTime: 12.2 seconds RetCode: 0 Status: OK PackageFile: LRBaseDbi_2.21.0.tar.gz PackageFileSize: 146 KiB