Package: LRBaseDbi Version: 2.21.0 Command: rm -rf LRBaseDbi.buildbin-libdir && mkdir LRBaseDbi.buildbin-libdir && /Users/biocbuild/BBS/utils/build-universal.sh LRBaseDbi_2.21.0.tar.gz /Library/Frameworks/R.framework/Resources/bin/R LRBaseDbi.buildbin-libdir StartedAt: 2025-11-26 23:39:48 -0500 (Wed, 26 Nov 2025) EndedAt: 2025-11-26 23:39:54 -0500 (Wed, 26 Nov 2025) EllapsedTime: 6.2 seconds RetCode: 0 Status: OK PackageFile: LRBaseDbi_2.21.0.tgz PackageFileSize: 556.3 KiB