Package: LEA Version: 3.21.0 Command: /home/biocbuild/bbs-3.22-bioc/R/bin/R CMD INSTALL LEA StartedAt: 2025-10-16 16:01:59 -0400 (Thu, 16 Oct 2025) EndedAt: 2025-10-16 16:02:15 -0400 (Thu, 16 Oct 2025) EllapsedTime: 15.6 seconds RetCode: 0 Status: OK