Package: LEA Version: 3.21.0 Command: /home/biocbuild/bbs-3.22-bioc/R/bin/R CMD build --keep-empty-dirs --no-resave-data --md5 LEA StartedAt: 2025-10-16 19:21:43 -0400 (Thu, 16 Oct 2025) EndedAt: 2025-10-16 19:23:15 -0400 (Thu, 16 Oct 2025) EllapsedTime: 92.1 seconds RetCode: 0 Status: OK PackageFile: LEA_3.21.0.tar.gz PackageFileSize: 747.9 KiB