Package: KnowSeq Version: 1.25.0 Command: /Library/Frameworks/R.framework/Resources/bin/R CMD INSTALL KnowSeq StartedAt: 2025-11-25 15:10:05 -0500 (Tue, 25 Nov 2025) EndedAt: 2025-11-25 15:10:17 -0500 (Tue, 25 Nov 2025) EllapsedTime: 12.3 seconds RetCode: 0 Status: OK