Package: KnowSeq Version: 1.25.0 Command: /Library/Frameworks/R.framework/Resources/bin/R CMD build --keep-empty-dirs --no-resave-data KnowSeq StartedAt: 2025-11-25 16:46:41 -0500 (Tue, 25 Nov 2025) EndedAt: 2025-11-25 16:48:08 -0500 (Tue, 25 Nov 2025) EllapsedTime: 87.0 seconds RetCode: 0 Status: OK PackageFile: KnowSeq_1.25.0.tar.gz PackageFileSize: 8.255 MiB