Package: IsoCorrectoRGUI Version: 1.25.0 Command: /Library/Frameworks/R.framework/Resources/bin/R CMD INSTALL IsoCorrectoRGUI StartedAt: 2025-10-27 15:04:48 -0400 (Mon, 27 Oct 2025) EndedAt: 2025-10-27 15:04:52 -0400 (Mon, 27 Oct 2025) EllapsedTime: 3.9 seconds RetCode: 0 Status: OK