Package: InteractiveComplexHeatmap Version: 1.19.0 Command: /home/biocbuild/bbs-3.23-bioc/R/bin/R CMD INSTALL InteractiveComplexHeatmap StartedAt: 2025-11-17 15:15:16 -0500 (Mon, 17 Nov 2025) EndedAt: 2025-11-17 15:15:28 -0500 (Mon, 17 Nov 2025) EllapsedTime: 12.4 seconds RetCode: 0 Status: OK