Package: InteractiveComplexHeatmap Version: 1.19.0 Command: /Library/Frameworks/R.framework/Resources/bin/R CMD INSTALL InteractiveComplexHeatmap StartedAt: 2025-11-16 20:17:50 -0500 (Sun, 16 Nov 2025) EndedAt: 2025-11-16 20:18:03 -0500 (Sun, 16 Nov 2025) EllapsedTime: 13.1 seconds RetCode: 0 Status: OK