Package: InteractiveComplexHeatmap Version: 1.19.0 Command: /Library/Frameworks/R.framework/Resources/bin/R CMD build --keep-empty-dirs --no-resave-data InteractiveComplexHeatmap StartedAt: 2025-11-16 22:26:10 -0500 (Sun, 16 Nov 2025) EndedAt: 2025-11-16 22:27:08 -0500 (Sun, 16 Nov 2025) EllapsedTime: 58.4 seconds RetCode: 0 Status: OK PackageFile: InteractiveComplexHeatmap_1.19.0.tar.gz PackageFileSize: 968.6 KiB