Package: InteractiveComplexHeatmap Version: 1.19.0 Command: rm -rf InteractiveComplexHeatmap.buildbin-libdir && mkdir InteractiveComplexHeatmap.buildbin-libdir && /Users/biocbuild/BBS/utils/build-universal.sh InteractiveComplexHeatmap_1.19.0.tar.gz /Library/Frameworks/R.framework/Resources/bin/R InteractiveComplexHeatmap.buildbin-libdir StartedAt: 2025-11-17 07:00:49 -0500 (Mon, 17 Nov 2025) EndedAt: 2025-11-17 07:01:13 -0500 (Mon, 17 Nov 2025) EllapsedTime: 24.4 seconds RetCode: 0 Status: OK PackageFile: InteractiveComplexHeatmap_1.19.0.tgz PackageFileSize: 1.154 MiB