Package: InteractiveComplexHeatmap Version: 1.17.0 Command: /Library/Frameworks/R.framework/Resources/bin/R CMD INSTALL InteractiveComplexHeatmap StartedAt: 2025-10-21 15:08:38 -0400 (Tue, 21 Oct 2025) EndedAt: 2025-10-21 15:08:44 -0400 (Tue, 21 Oct 2025) EllapsedTime: 5.5 seconds RetCode: 0 Status: OK