Package: InteractiveComplexHeatmap Version: 1.17.0 Command: /Library/Frameworks/R.framework/Resources/bin/R CMD build --keep-empty-dirs --no-resave-data InteractiveComplexHeatmap StartedAt: 2025-10-21 16:48:43 -0400 (Tue, 21 Oct 2025) EndedAt: 2025-10-21 16:49:00 -0400 (Tue, 21 Oct 2025) EllapsedTime: 17.2 seconds RetCode: 0 Status: OK PackageFile: InteractiveComplexHeatmap_1.17.0.tar.gz PackageFileSize: 968.7 KiB