Package: InteractiveComplexHeatmap Version: 1.17.0 Command: rm -rf InteractiveComplexHeatmap.buildbin-libdir && mkdir InteractiveComplexHeatmap.buildbin-libdir && /Users/biocbuild/BBS/utils/build-universal.sh InteractiveComplexHeatmap_1.17.0.tar.gz /Library/Frameworks/R.framework/Resources/bin/R InteractiveComplexHeatmap.buildbin-libdir StartedAt: 2025-10-21 23:05:00 -0400 (Tue, 21 Oct 2025) EndedAt: 2025-10-21 23:05:06 -0400 (Tue, 21 Oct 2025) EllapsedTime: 6.1 seconds RetCode: 0 Status: OK PackageFile: InteractiveComplexHeatmap_1.17.0.tgz PackageFileSize: 1.154 MiB