Package: InteractionSet Version: 1.39.0 Command: /home/biocbuild/bbs-3.23-bioc/R/bin/R CMD INSTALL InteractionSet StartedAt: 2025-11-26 15:22:57 -0500 (Wed, 26 Nov 2025) EndedAt: 2025-11-26 15:23:41 -0500 (Wed, 26 Nov 2025) EllapsedTime: 44.2 seconds RetCode: 0 Status: OK