Package: InteractionSet Version: 1.39.0 Command: /Library/Frameworks/R.framework/Resources/bin/R CMD INSTALL InteractionSet StartedAt: 2025-11-20 15:28:15 -0500 (Thu, 20 Nov 2025) EndedAt: 2025-11-20 15:29:11 -0500 (Thu, 20 Nov 2025) EllapsedTime: 56.2 seconds RetCode: 0 Status: OK