Package: InteractionSet Version: 1.39.0 Command: /Library/Frameworks/R.framework/Resources/bin/R CMD build --keep-empty-dirs --no-resave-data InteractionSet StartedAt: 2025-11-20 17:26:58 -0500 (Thu, 20 Nov 2025) EndedAt: 2025-11-20 17:28:11 -0500 (Thu, 20 Nov 2025) EllapsedTime: 73.0 seconds RetCode: 0 Status: OK PackageFile: InteractionSet_1.39.0.tar.gz PackageFileSize: 391.4 KiB