Package: InteractionSet Version: 1.39.0 Command: /Library/Frameworks/R.framework/Resources/bin/R CMD INSTALL InteractionSet StartedAt: 2025-11-14 15:14:48 -0500 (Fri, 14 Nov 2025) EndedAt: 2025-11-14 15:15:03 -0500 (Fri, 14 Nov 2025) EllapsedTime: 15.4 seconds RetCode: 0 Status: OK