Back to Build/check report for BioC 3.23:   simplified   long
ABCDEFGH[I]JKLMNOPQRSTUVWXYZ

This page was generated on 2025-11-06 11:32 -0500 (Thu, 06 Nov 2025).

HostnameOSArch (*)R versionInstalled pkgs
nebbiolo1Linux (Ubuntu 24.04.3 LTS)x86_64R Under development (unstable) (2025-10-20 r88955) -- "Unsuffered Consequences" 4818
Click on any hostname to see more info about the system (e.g. compilers)      (*) as reported by 'uname -p', except on Windows and Mac OS X

All results for package InteractionSet


To the developers/maintainers of the InteractionSet package:
- Allow up to 24 hours (and sometimes 48 hours) for your latest push to git@git.bioconductor.org:packages/InteractionSet.git to reflect on this report. See Troubleshooting Build Report for more information.
- Use the following Renviron settings to reproduce errors and warnings.
- If 'R CMD check' started to fail recently on the Linux builder(s) over a missing dependency, add the missing dependency to 'Suggests:' in your DESCRIPTION file. See Renviron.bioc for more information.

raw results

Package 1054/2323HostnameOS / ArchINSTALLBUILDCHECKBUILD BIN
InteractionSet 1.39.0  (landing page)
Aaron Lun
Snapshot Date: 2025-11-05 13:40 -0500 (Wed, 05 Nov 2025)
git_url: https://git.bioconductor.org/packages/InteractionSet
git_branch: devel
git_last_commit: 3862179
git_last_commit_date: 2025-10-29 10:31:52 -0500 (Wed, 29 Oct 2025)
nebbiolo1Linux (Ubuntu 24.04.3 LTS) / x86_64  OK    OK    OK  UNNEEDED, same version is already published



Results for Bioconductor software packages that depend directly on package InteractionSet

QUICK STATSOS / ArchINSTALLBUILDCHECKBUILD BIN
nebbiolo1Linux (Ubuntu 24.04.3 LTS) / x86_64
0125
0224
01221
Package 1/26HostnameOS / ArchINSTALLBUILDCHECKBUILD BIN
CAGEfightR 1.31.0  (landing page)
Malte Thodberg
git_last_commit: c45462c
git_last_commit_date: 2025-10-29 10:45:17 -0500
nebbiolo1Linux (Ubuntu 24.04.3 LTS) / x86_64  OK    OK    OK  UNNEEDED, same version is already published
Package 2/26HostnameOS / ArchINSTALLBUILDCHECKBUILD BIN
ChIPpeakAnno 3.45.0  (landing page)
Jianhong Ou
git_last_commit: 2e00e23
git_last_commit_date: 2025-10-29 10:03:18 -0500
nebbiolo1Linux (Ubuntu 24.04.3 LTS) / x86_64  ERROR    ERROR  skipped
Package 3/26HostnameOS / ArchINSTALLBUILDCHECKBUILD BIN
DegCre 1.7.0  (landing page)
Brian S. Roberts
git_last_commit: 97a3d4d
git_last_commit_date: 2025-10-29 11:28:34 -0500
nebbiolo1Linux (Ubuntu 24.04.3 LTS) / x86_64  OK    OK    OK  UNNEEDED, same version is already published
Package 4/26HostnameOS / ArchINSTALLBUILDCHECKBUILD BIN
diffHic 1.43.0  (landing page)
Aaron Lun , Gordon Smyth , Hannah Coughlin
git_last_commit: c909cdb
git_last_commit_date: 2025-10-29 10:25:47 -0500
nebbiolo1Linux (Ubuntu 24.04.3 LTS) / x86_64  OK    OK    OK  UNNEEDED, same version is already published
Package 5/26HostnameOS / ArchINSTALLBUILDCHECKBUILD BIN
DMRcaller 1.43.1  (landing page)
Nicolae Radu Zabet
git_last_commit: 5ec5d13
git_last_commit_date: 2025-11-04 13:15:34 -0500
nebbiolo1Linux (Ubuntu 24.04.3 LTS) / x86_64  OK    OK    OK  UNNEEDED, same version is already published
Package 6/26HostnameOS / ArchINSTALLBUILDCHECKBUILD BIN
DuplexDiscovereR 1.5.0  (landing page)
Egor Semenchenko
git_last_commit: 4cdae86
git_last_commit_date: 2025-10-29 11:32:35 -0500
nebbiolo1Linux (Ubuntu 24.04.3 LTS) / x86_64  OK    OK    OK  UNNEEDED, same version is already published
Package 7/26HostnameOS / ArchINSTALLBUILDCHECKBUILD BIN
EDIRquery 1.11.0  (landing page)
Laura D.T. Vo Ngoc
git_last_commit: be464df
git_last_commit_date: 2025-10-29 11:22:37 -0500
nebbiolo1Linux (Ubuntu 24.04.3 LTS) / x86_64  OK    OK    OK  UNNEEDED, same version is already published
Package 8/26HostnameOS / ArchINSTALLBUILDCHECKBUILD BIN
extraChIPs 1.15.0  (landing page)
Stevie Pederson
git_last_commit: 9ceda11
git_last_commit_date: 2025-10-29 11:16:32 -0500
nebbiolo1Linux (Ubuntu 24.04.3 LTS) / x86_64  OK    OK    OK  UNNEEDED, same version is already published
Package 9/26HostnameOS / ArchINSTALLBUILDCHECKBUILD BIN
GenomicInteractions 1.45.0  (landing page)
Liz Ing-Simmons
git_last_commit: c3eb720
git_last_commit_date: 2025-10-29 10:21:43 -0500
nebbiolo1Linux (Ubuntu 24.04.3 LTS) / x86_64  OK    OK    OK  UNNEEDED, same version is already published
Package 10/26HostnameOS / ArchINSTALLBUILDCHECKBUILD BIN
geomeTriD 1.5.0  (landing page)
Jianhong Ou
git_last_commit: d93feea
git_last_commit_date: 2025-10-29 11:32:13 -0500
nebbiolo1Linux (Ubuntu 24.04.3 LTS) / x86_64  OK    OK    OK  UNNEEDED, same version is already published
Package 11/26HostnameOS / ArchINSTALLBUILDCHECKBUILD BIN
HicAggR 1.7.0  (landing page)
Olivier Cuvier
git_last_commit: 7e29b61
git_last_commit_date: 2025-10-29 11:30:21 -0500
nebbiolo1Linux (Ubuntu 24.04.3 LTS) / x86_64  OK    OK    WARNINGS  UNNEEDED, same version is already published
Package 12/26HostnameOS / ArchINSTALLBUILDCHECKBUILD BIN
HiCaptuRe 1.1.0  (landing page)
Laureano Tomas-Daza
git_last_commit: 342bae3
git_last_commit_date: 2025-10-29 11:37:26 -0500
nebbiolo1Linux (Ubuntu 24.04.3 LTS) / x86_64  OK    OK    OK  UNNEEDED, same version is already published
Package 13/26HostnameOS / ArchINSTALLBUILDCHECKBUILD BIN
HiCcompare 1.33.0  (landing page)
Mikhail Dozmorov
git_last_commit: cd8aee7
git_last_commit_date: 2025-10-29 10:39:45 -0500
nebbiolo1Linux (Ubuntu 24.04.3 LTS) / x86_64  OK    OK    OK  UNNEEDED, same version is already published
Package 14/26HostnameOS / ArchINSTALLBUILDCHECKBUILD BIN
HiCDCPlus 1.19.0  (landing page)
Merve Sahin
git_last_commit: 720bb53
git_last_commit_date: 2025-10-29 11:06:20 -0500
nebbiolo1Linux (Ubuntu 24.04.3 LTS) / x86_64  OK    OK    OK  UNNEEDED, same version is already published
Package 15/26HostnameOS / ArchINSTALLBUILDCHECKBUILD BIN
HiCDOC 1.13.0  (landing page)
Maigné Élise
git_last_commit: 6ee95b8
git_last_commit_date: 2025-10-29 11:17:41 -0500
nebbiolo1Linux (Ubuntu 24.04.3 LTS) / x86_64  OK    OK    OK  UNNEEDED, same version is already published
Package 16/26HostnameOS / ArchINSTALLBUILDCHECKBUILD BIN
HiCExperiment 1.11.0  (landing page)
Jacques Serizay
git_last_commit: ba6af4b
git_last_commit_date: 2025-10-29 11:21:02 -0500
nebbiolo1Linux (Ubuntu 24.04.3 LTS) / x86_64  OK    OK    OK  UNNEEDED, same version is already published
Package 17/26HostnameOS / ArchINSTALLBUILDCHECKBUILD BIN
HiContacts 1.13.0  (landing page)
Jacques Serizay
git_last_commit: 0b86ddb
git_last_commit_date: 2025-10-29 11:18:51 -0500
nebbiolo1Linux (Ubuntu 24.04.3 LTS) / x86_64  OK    OK    OK  UNNEEDED, same version is already published
Package 18/26HostnameOS / ArchINSTALLBUILDCHECKBUILD BIN
HiCool 1.11.0  (landing page)
Jacques Serizay
git_last_commit: e5a98a3
git_last_commit_date: 2025-10-29 11:21:39 -0500
nebbiolo1Linux (Ubuntu 24.04.3 LTS) / x86_64  OK    OK    ERROR  
Package 19/26HostnameOS / ArchINSTALLBUILDCHECKBUILD BIN
HiCParser 1.3.0  (landing page)
Maigné Élise
git_last_commit: a19d833
git_last_commit_date: 2025-10-29 11:34:38 -0500
nebbiolo1Linux (Ubuntu 24.04.3 LTS) / x86_64  OK    OK    OK  UNNEEDED, same version is already published
Package 20/26HostnameOS / ArchINSTALLBUILDCHECKBUILD BIN
hicVennDiagram 1.9.0  (landing page)
Jianhong Ou
git_last_commit: 09d3176
git_last_commit_date: 2025-10-29 11:24:22 -0500
nebbiolo1Linux (Ubuntu 24.04.3 LTS) / x86_64  OK    ERROR  skipped
Package 21/26HostnameOS / ArchINSTALLBUILDCHECKBUILD BIN
linkSet 1.1.0  (landing page)
Gilbert Han
git_last_commit: bdadbdd
git_last_commit_date: 2025-10-29 11:37:12 -0500
nebbiolo1Linux (Ubuntu 24.04.3 LTS) / x86_64  OK    OK    WARNINGS  NO, package depends on 'Organism.dplyr' which is not available
Package 22/26HostnameOS / ArchINSTALLBUILDCHECKBUILD BIN
mariner 1.11.0  (landing page)
Eric Davis
git_last_commit: bc186bb
git_last_commit_date: 2025-10-29 11:23:11 -0500
nebbiolo1Linux (Ubuntu 24.04.3 LTS) / x86_64  OK    OK    OK  UNNEEDED, same version is already published
Package 23/26HostnameOS / ArchINSTALLBUILDCHECKBUILD BIN
nullranges 1.17.0  (landing page)
Michael Love
git_last_commit: f28268b
git_last_commit_date: 2025-10-29 11:12:51 -0500
nebbiolo1Linux (Ubuntu 24.04.3 LTS) / x86_64  OK    OK    OK  UNNEEDED, same version is already published
Package 24/26HostnameOS / ArchINSTALLBUILDCHECKBUILD BIN
plyinteractions 1.9.0  (landing page)
Jacques Serizay
git_last_commit: 172a96a
git_last_commit_date: 2025-10-29 11:25:39 -0500
nebbiolo1Linux (Ubuntu 24.04.3 LTS) / x86_64  OK    OK    OK  UNNEEDED, same version is already published
Package 25/26HostnameOS / ArchINSTALLBUILDCHECKBUILD BIN
sevenC 1.31.0  (landing page)
Jonas Ibn-Salem
git_last_commit: d1682a2
git_last_commit_date: 2025-10-29 10:45:03 -0500
nebbiolo1Linux (Ubuntu 24.04.3 LTS) / x86_64  OK    OK    OK  UNNEEDED, same version is already published
Package 26/26HostnameOS / ArchINSTALLBUILDCHECKBUILD BIN
trackViewer 1.47.0  (landing page)
Jianhong Ou
git_last_commit: c2b7d9b
git_last_commit_date: 2025-10-29 10:17:52 -0500
nebbiolo1Linux (Ubuntu 24.04.3 LTS) / x86_64  OK    OK    OK  UNNEEDED, same version is already published