Package: InterCellar Version: 2.15.0 Command: /home/biocbuild/bbs-3.22-bioc/R/bin/R CMD INSTALL InterCellar StartedAt: 2025-10-03 15:25:10 -0400 (Fri, 03 Oct 2025) EndedAt: 2025-10-03 15:25:38 -0400 (Fri, 03 Oct 2025) EllapsedTime: 27.7 seconds RetCode: 0 Status: OK