Package: InterCellar Version: 2.15.0 Command: /home/biocbuild/bbs-3.22-bioc/R/bin/R CMD build --keep-empty-dirs --no-resave-data --md5 InterCellar StartedAt: 2025-10-03 18:13:47 -0400 (Fri, 03 Oct 2025) EndedAt: 2025-10-03 18:14:27 -0400 (Fri, 03 Oct 2025) EllapsedTime: 40.1 seconds RetCode: 0 Status: OK PackageFile: InterCellar_2.15.0.tar.gz PackageFileSize: 4.019 MiB