Package: IntEREst Version: 1.35.0 Command: /Library/Frameworks/R.framework/Resources/bin/R CMD INSTALL IntEREst StartedAt: 2025-11-21 15:51:56 -0500 (Fri, 21 Nov 2025) EndedAt: 2025-11-21 15:53:09 -0500 (Fri, 21 Nov 2025) EllapsedTime: 72.7 seconds RetCode: 0 Status: OK