Package: IntEREst Version: 1.35.0 Command: /Library/Frameworks/R.framework/Resources/bin/R CMD INSTALL IntEREst StartedAt: 2025-11-19 15:30:02 -0500 (Wed, 19 Nov 2025) EndedAt: 2025-11-19 15:30:24 -0500 (Wed, 19 Nov 2025) EllapsedTime: 21.7 seconds RetCode: 0 Status: OK