Package: IntEREst Version: 1.35.0 Command: /Library/Frameworks/R.framework/Resources/bin/R CMD build --keep-empty-dirs --no-resave-data IntEREst StartedAt: 2025-11-19 16:44:57 -0500 (Wed, 19 Nov 2025) EndedAt: 2025-11-19 16:45:24 -0500 (Wed, 19 Nov 2025) EllapsedTime: 27.3 seconds RetCode: 1 Status: ERROR PackageFile: None PackageFileSize: NA