Package: InPAS Version: 2.19.1 Command: /Library/Frameworks/R.framework/Resources/bin/R CMD INSTALL InPAS StartedAt: 2025-11-26 15:25:02 -0500 (Wed, 26 Nov 2025) EndedAt: 2025-11-26 15:25:21 -0500 (Wed, 26 Nov 2025) EllapsedTime: 18.7 seconds RetCode: 0 Status: OK