Package: InPAS Version: 2.19.1 Command: rm -rf InPAS.buildbin-libdir && mkdir InPAS.buildbin-libdir && /Users/biocbuild/BBS/utils/build-universal.sh InPAS_2.19.1.tar.gz /Library/Frameworks/R.framework/Resources/bin/R InPAS.buildbin-libdir StartedAt: 2025-11-26 23:38:15 -0500 (Wed, 26 Nov 2025) EndedAt: 2025-11-26 23:38:39 -0500 (Wed, 26 Nov 2025) EllapsedTime: 23.5 seconds RetCode: 0 Status: OK PackageFile: InPAS_2.19.1.tgz PackageFileSize: 3.439 MiB