Package: ISAnalytics Version: 1.19.3 Command: /home/biocbuild/bbs-3.22-bioc/R/bin/R CMD INSTALL ISAnalytics StartedAt: 2025-09-29 15:08:20 -0400 (Mon, 29 Sep 2025) EndedAt: 2025-09-29 15:08:40 -0400 (Mon, 29 Sep 2025) EllapsedTime: 20.2 seconds RetCode: 0 Status: OK