Package: INTACT Version: 1.9.0 Command: /home/biocbuild/bbs-3.22-bioc/R/bin/R CMD INSTALL INTACT StartedAt: 2025-10-14 15:09:04 -0400 (Tue, 14 Oct 2025) EndedAt: 2025-10-14 15:09:08 -0400 (Tue, 14 Oct 2025) EllapsedTime: 4.7 seconds RetCode: 0 Status: OK