Package: HilbertVisGUI Version: 1.67.1 Command: /home/biocbuild/bbs-3.22-bioc/R/bin/R CMD INSTALL HilbertVisGUI StartedAt: 2025-10-19 15:04:18 -0400 (Sun, 19 Oct 2025) EndedAt: 2025-10-19 15:04:51 -0400 (Sun, 19 Oct 2025) EllapsedTime: 33.1 seconds RetCode: 0 Status: OK