Package: HilbertVisGUI Version: 1.67.1 Command: /home/biocbuild/bbs-3.22-bioc/R/bin/R CMD build --keep-empty-dirs --no-resave-data --md5 HilbertVisGUI StartedAt: 2025-10-17 18:04:45 -0400 (Fri, 17 Oct 2025) EndedAt: 2025-10-17 18:05:08 -0400 (Fri, 17 Oct 2025) EllapsedTime: 23.0 seconds RetCode: 0 Status: OK PackageFile: HilbertVisGUI_1.67.1.tar.gz PackageFileSize: 149.6 KiB